1.6968292644
-0.0256538306
-0.0256538306
-1.6968292644
800278.2480544767
6314125.4061408890
